BEGIN:VCALENDAR
VERSION:2.0
PRODID:-//La Trocamba Matanusca - ECPv6.8.1//NONSGML v1.0//EN
CALSCALE:GREGORIAN
METHOD:PUBLISH
X-WR-CALNAME:La Trocamba Matanusca
X-ORIGINAL-URL:https://latrocamba.com
X-WR-CALDESC:Esdeveniments per La Trocamba Matanusca
REFRESH-INTERVAL;VALUE=DURATION:PT1H
X-Robots-Tag:noindex
X-PUBLISHED-TTL:PT1H
BEGIN:VTIMEZONE
TZID:Europe/Paris
BEGIN:DAYLIGHT
TZOFFSETFROM:+0100
TZOFFSETTO:+0200
TZNAME:CEST
DTSTART:20220327T010000
END:DAYLIGHT
BEGIN:STANDARD
TZOFFSETFROM:+0200
TZOFFSETTO:+0100
TZNAME:CET
DTSTART:20221030T010000
END:STANDARD
END:VTIMEZONE
BEGIN:VEVENT
DTSTART;TZID=Europe/Paris:20220930T230000
DTEND;TZID=Europe/Paris:20220930T233000
DTSTAMP:20260422T021014
CREATED:20220505T200222Z
LAST-MODIFIED:20220511T183358Z
UID:2080-1664578800-1664580600@latrocamba.com
SUMMARY:Festival XERA- Jerez
DESCRIPTION:Mas información próximamente 🙂
URL:https://latrocamba.com/concert/barcelona-3/
END:VEVENT
END:VCALENDAR